BEGIN:VCALENDAR
VERSION:2.0
PRODID:-//ExpressionEngine Easy iCalendar plugin//NONSGML v2.0.0//EN
X-WR-TIMEZONE:America/Chicago
X-WR-CALNAME:Upcoming Auctions
BEGIN:VEVENT
UID:132507
DTSTAMP:20250226T100000
DTSTART:20250226T100000
DTEND:20250304T183000
SUMMARY:McConnell's impound auction
LOCATION:{location}
DESCRIPTION:Catalog coming soon 
URL:https://www.advancedauctionsolutions.com/auctions/detail/bw1
 32507
SEQUENCE:1
END:VEVENT
END:VCALENDAR