BEGIN:VCALENDAR
VERSION:2.0
PRODID:-//ExpressionEngine Easy iCalendar plugin//NONSGML v2.0.1//EN
X-WR-TIMEZONE:America/Chicago
X-WR-CALNAME:Upcoming Auctions
BEGIN:VEVENT
UID:160936
DTSTAMP:20260513T100000
DTSTART:20260513T100000
DTEND:20260519T183000
SUMMARY:Sergio's Impound Auction
LOCATION:3140 NW 38st\, Okc \, OK 73112\, US
DESCRIPTION:Catalog will be posted the night before the Auction starts.
URL:https://www.advancedauctionsolutions.com/auctions/detail/bw1
 60936
SEQUENCE:1
END:VEVENT
END:VCALENDAR