BEGIN:VCALENDAR
VERSION:2.0
PRODID:-//ExpressionEngine Easy iCalendar plugin//NONSGML v2.0.0//EN
X-WR-TIMEZONE:America/Chicago
X-WR-CALNAME:Upcoming Auctions
BEGIN:VEVENT
UID:96815
DTSTAMP:20230322T100000
DTSTART:20230322T100000
DTEND:20230328T183000
SUMMARY:Twister Towing Impound Auction
LOCATION:6221 N Mueller\, Bethany\, OK 73008\, US
DESCRIPTION:Catalog coming soon
URL:https://www.advancedauctionsolutions.com/auctions/detail/bw9
 6815
SEQUENCE:1
END:VEVENT
END:VCALENDAR